BEGIN:VCALENDAR
VERSION:2.0
PRODID:-//Tiverton Tabletop Club - ECPv6.15.18//NONSGML v1.0//EN
CALSCALE:GREGORIAN
METHOD:PUBLISH
X-ORIGINAL-URL:https://tivertontabletop.club
X-WR-CALDESC:Events for Tiverton Tabletop Club
REFRESH-INTERVAL;VALUE=DURATION:PT1H
X-Robots-Tag:noindex
X-PUBLISHED-TTL:PT1H
BEGIN:VTIMEZONE
TZID:Europe/London
BEGIN:DAYLIGHT
TZOFFSETFROM:+0000
TZOFFSETTO:+0100
TZNAME:BST
DTSTART:20240331T010000
END:DAYLIGHT
BEGIN:STANDARD
TZOFFSETFROM:+0100
TZOFFSETTO:+0000
TZNAME:GMT
DTSTART:20241027T010000
END:STANDARD
BEGIN:DAYLIGHT
TZOFFSETFROM:+0000
TZOFFSETTO:+0100
TZNAME:BST
DTSTART:20250330T010000
END:DAYLIGHT
BEGIN:STANDARD
TZOFFSETFROM:+0100
TZOFFSETTO:+0000
TZNAME:GMT
DTSTART:20251026T010000
END:STANDARD
BEGIN:DAYLIGHT
TZOFFSETFROM:+0000
TZOFFSETTO:+0100
TZNAME:BST
DTSTART:20260329T010000
END:DAYLIGHT
BEGIN:STANDARD
TZOFFSETFROM:+0100
TZOFFSETTO:+0000
TZNAME:GMT
DTSTART:20261025T010000
END:STANDARD
BEGIN:DAYLIGHT
TZOFFSETFROM:+0000
TZOFFSETTO:+0100
TZNAME:BST
DTSTART:20270328T010000
END:DAYLIGHT
BEGIN:STANDARD
TZOFFSETFROM:+0100
TZOFFSETTO:+0000
TZNAME:GMT
DTSTART:20271031T010000
END:STANDARD
END:VTIMEZONE
BEGIN:VEVENT
DTSTART;TZID=Europe/London:20260416T183000
DTEND;TZID=Europe/London:20260416T220000
DTSTAMP:20260421T153442
CREATED:20260306T092406Z
LAST-MODIFIED:20260306T092406Z
UID:1689-1776364200-1776376800@tivertontabletop.club
SUMMARY:Club Meet
DESCRIPTION:Regular fortnightly club meeting
URL:https://tivertontabletop.club/event/club-meet-37/
LOCATION:Old Heathcoat School Community Centre\, 81 King Street\, Tiverton\, Devon\, EX16 5JJ\, United Kingdom
CATEGORIES:Club Meet
END:VEVENT
BEGIN:VEVENT
DTSTART;TZID=Europe/London:20260402T183000
DTEND;TZID=Europe/London:20260402T220000
DTSTAMP:20260421T153442
CREATED:20260306T092406Z
LAST-MODIFIED:20260306T092406Z
UID:1688-1775154600-1775167200@tivertontabletop.club
SUMMARY:Club Meet
DESCRIPTION:Regular fortnightly club meeting
URL:https://tivertontabletop.club/event/club-meet-36/
LOCATION:Old Heathcoat School Community Centre\, 81 King Street\, Tiverton\, Devon\, EX16 5JJ\, United Kingdom
CATEGORIES:Club Meet
END:VEVENT
BEGIN:VEVENT
DTSTART;TZID=Europe/London:20260319T183000
DTEND;TZID=Europe/London:20260319T220000
DTSTAMP:20260421T153442
CREATED:20251201T104815Z
LAST-MODIFIED:20251201T104815Z
UID:1462-1773945000-1773957600@tivertontabletop.club
SUMMARY:Club Meet
DESCRIPTION:Regular fortnightly club meeting
URL:https://tivertontabletop.club/event/club-meet-35/
LOCATION:Old Heathcoat School Community Centre\, 81 King Street\, Tiverton\, Devon\, EX16 5JJ\, United Kingdom
CATEGORIES:Club Meet
END:VEVENT
BEGIN:VEVENT
DTSTART;TZID=Europe/London:20260305T183000
DTEND;TZID=Europe/London:20260305T220000
DTSTAMP:20260421T153442
CREATED:20251201T104814Z
LAST-MODIFIED:20251201T104814Z
UID:1461-1772735400-1772748000@tivertontabletop.club
SUMMARY:Club Meet
DESCRIPTION:Regular fortnightly club meeting
URL:https://tivertontabletop.club/event/club-meet-34/
LOCATION:Old Heathcoat School Community Centre\, 81 King Street\, Tiverton\, Devon\, EX16 5JJ\, United Kingdom
CATEGORIES:Club Meet
END:VEVENT
BEGIN:VEVENT
DTSTART;TZID=Europe/London:20260219T183000
DTEND;TZID=Europe/London:20260219T220000
DTSTAMP:20260421T153442
CREATED:20251201T104814Z
LAST-MODIFIED:20251201T104814Z
UID:1460-1771525800-1771538400@tivertontabletop.club
SUMMARY:Club Meet
DESCRIPTION:Regular fortnightly club meeting
URL:https://tivertontabletop.club/event/club-meet-33/
LOCATION:Old Heathcoat School Community Centre\, 81 King Street\, Tiverton\, Devon\, EX16 5JJ\, United Kingdom
CATEGORIES:Club Meet
END:VEVENT
BEGIN:VEVENT
DTSTART;TZID=Europe/London:20260205T183000
DTEND;TZID=Europe/London:20260205T220000
DTSTAMP:20260421T153442
CREATED:20251201T104814Z
LAST-MODIFIED:20251201T104814Z
UID:1459-1770316200-1770328800@tivertontabletop.club
SUMMARY:Club Meet
DESCRIPTION:Regular fortnightly club meeting
URL:https://tivertontabletop.club/event/club-meet-32/
LOCATION:Old Heathcoat School Community Centre\, 81 King Street\, Tiverton\, Devon\, EX16 5JJ\, United Kingdom
CATEGORIES:Club Meet
END:VEVENT
BEGIN:VEVENT
DTSTART;TZID=Europe/London:20260122T183000
DTEND;TZID=Europe/London:20260122T220000
DTSTAMP:20260421T153442
CREATED:20251201T104814Z
LAST-MODIFIED:20251201T104814Z
UID:1458-1769106600-1769119200@tivertontabletop.club
SUMMARY:Club Meet
DESCRIPTION:Regular fortnightly club meeting
URL:https://tivertontabletop.club/event/club-meet-31/
LOCATION:Old Heathcoat School Community Centre\, 81 King Street\, Tiverton\, Devon\, EX16 5JJ\, United Kingdom
CATEGORIES:Club Meet
END:VEVENT
BEGIN:VEVENT
DTSTART;TZID=Europe/London:20260108T183000
DTEND;TZID=Europe/London:20260108T220000
DTSTAMP:20260421T153442
CREATED:20251201T104814Z
LAST-MODIFIED:20251201T104814Z
UID:1457-1767897000-1767909600@tivertontabletop.club
SUMMARY:Club Meet
DESCRIPTION:Regular fortnightly club meeting
URL:https://tivertontabletop.club/event/club-meet-30/
LOCATION:Old Heathcoat School Community Centre\, 81 King Street\, Tiverton\, Devon\, EX16 5JJ\, United Kingdom
CATEGORIES:Club Meet
END:VEVENT
BEGIN:VEVENT
DTSTART;TZID=Europe/London:20251211T183000
DTEND;TZID=Europe/London:20251211T220000
DTSTAMP:20260421T153442
CREATED:20250703T105845Z
LAST-MODIFIED:20251017T102756Z
UID:966-1765477800-1765490400@tivertontabletop.club
SUMMARY:Club Meet
DESCRIPTION:Regular fortnightly club meeting
URL:https://tivertontabletop.club/event/club-meet-23/
LOCATION:Old Heathcoat School Community Centre\, 81 King Street\, Tiverton\, Devon\, EX16 5JJ\, United Kingdom
CATEGORIES:Club Meet
END:VEVENT
BEGIN:VEVENT
DTSTART;TZID=Europe/London:20251127T183000
DTEND;TZID=Europe/London:20251127T220000
DTSTAMP:20260421T153442
CREATED:20250703T105845Z
LAST-MODIFIED:20251017T102811Z
UID:965-1764268200-1764280800@tivertontabletop.club
SUMMARY:Club Meet
DESCRIPTION:Regular fortnightly club meeting
URL:https://tivertontabletop.club/event/club-meet-22/
LOCATION:Old Heathcoat School Community Centre\, 81 King Street\, Tiverton\, Devon\, EX16 5JJ\, United Kingdom
CATEGORIES:Club Meet
END:VEVENT
BEGIN:VEVENT
DTSTART;TZID=Europe/London:20251113T183000
DTEND;TZID=Europe/London:20251113T220000
DTSTAMP:20260421T153442
CREATED:20250703T105845Z
LAST-MODIFIED:20251017T102827Z
UID:964-1763058600-1763071200@tivertontabletop.club
SUMMARY:Club Meet
DESCRIPTION:Regular fortnightly club meeting
URL:https://tivertontabletop.club/event/club-meet-21/
LOCATION:Old Heathcoat School Community Centre\, 81 King Street\, Tiverton\, Devon\, EX16 5JJ\, United Kingdom
CATEGORIES:Club Meet
END:VEVENT
BEGIN:VEVENT
DTSTART;TZID=Europe/London:20251030T183000
DTEND;TZID=Europe/London:20251030T220000
DTSTAMP:20260421T153442
CREATED:20250703T105845Z
LAST-MODIFIED:20251017T102740Z
UID:963-1761849000-1761861600@tivertontabletop.club
SUMMARY:Club Meet
DESCRIPTION:Regular fortnightly club meeting
URL:https://tivertontabletop.club/event/club-meet-20/
LOCATION:Old Heathcoat School Community Centre\, 81 King Street\, Tiverton\, Devon\, EX16 5JJ\, United Kingdom
CATEGORIES:Club Meet
END:VEVENT
BEGIN:VEVENT
DTSTART;TZID=Europe/London:20251016T190000
DTEND;TZID=Europe/London:20251016T220000
DTSTAMP:20260421T153442
CREATED:20250703T105845Z
LAST-MODIFIED:20250703T105845Z
UID:962-1760641200-1760652000@tivertontabletop.club
SUMMARY:Club Meet
DESCRIPTION:Regular fortnightly club meeting
URL:https://tivertontabletop.club/event/club-meet-19/
LOCATION:Old Heathcoat School Community Centre\, 81 King Street\, Tiverton\, Devon\, EX16 5JJ\, United Kingdom
CATEGORIES:Club Meet
END:VEVENT
BEGIN:VEVENT
DTSTART;TZID=Europe/London:20251002T190000
DTEND;TZID=Europe/London:20251002T220000
DTSTAMP:20260421T153442
CREATED:20250703T105844Z
LAST-MODIFIED:20250703T105844Z
UID:961-1759431600-1759442400@tivertontabletop.club
SUMMARY:Club Meet
DESCRIPTION:Regular fortnightly club meeting
URL:https://tivertontabletop.club/event/club-meet-18/
LOCATION:Old Heathcoat School Community Centre\, 81 King Street\, Tiverton\, Devon\, EX16 5JJ\, United Kingdom
CATEGORIES:Club Meet
END:VEVENT
BEGIN:VEVENT
DTSTART;TZID=Europe/London:20250918T190000
DTEND;TZID=Europe/London:20250918T220000
DTSTAMP:20260421T153442
CREATED:20250703T105844Z
LAST-MODIFIED:20250703T105844Z
UID:960-1758222000-1758232800@tivertontabletop.club
SUMMARY:Club Meet
DESCRIPTION:Regular fortnightly club meeting
URL:https://tivertontabletop.club/event/club-meet-17/
LOCATION:Old Heathcoat School Community Centre\, 81 King Street\, Tiverton\, Devon\, EX16 5JJ\, United Kingdom
CATEGORIES:Club Meet
END:VEVENT
BEGIN:VEVENT
DTSTART;TZID=Europe/London:20250904T190000
DTEND;TZID=Europe/London:20250904T220000
DTSTAMP:20260421T153442
CREATED:20250703T105844Z
LAST-MODIFIED:20250703T105844Z
UID:959-1757012400-1757023200@tivertontabletop.club
SUMMARY:Club Meet
DESCRIPTION:Regular fortnightly club meeting
URL:https://tivertontabletop.club/event/club-meet-16/
LOCATION:Old Heathcoat School Community Centre\, 81 King Street\, Tiverton\, Devon\, EX16 5JJ\, United Kingdom
CATEGORIES:Club Meet
END:VEVENT
BEGIN:VEVENT
DTSTART;TZID=Europe/London:20250821T190000
DTEND;TZID=Europe/London:20250821T220000
DTSTAMP:20260421T153442
CREATED:20250703T105844Z
LAST-MODIFIED:20250703T105844Z
UID:958-1755802800-1755813600@tivertontabletop.club
SUMMARY:Club Meet
DESCRIPTION:Regular fortnightly club meeting
URL:https://tivertontabletop.club/event/club-meet-15/
LOCATION:Old Heathcoat School Community Centre\, 81 King Street\, Tiverton\, Devon\, EX16 5JJ\, United Kingdom
CATEGORIES:Club Meet
END:VEVENT
BEGIN:VEVENT
DTSTART;TZID=Europe/London:20250807T190000
DTEND;TZID=Europe/London:20250807T220000
DTSTAMP:20260421T153442
CREATED:20250703T105844Z
LAST-MODIFIED:20250703T105844Z
UID:957-1754593200-1754604000@tivertontabletop.club
SUMMARY:Club Meet
DESCRIPTION:Regular fortnightly club meeting
URL:https://tivertontabletop.club/event/club-meet-14/
LOCATION:Old Heathcoat School Community Centre\, 81 King Street\, Tiverton\, Devon\, EX16 5JJ\, United Kingdom
CATEGORIES:Club Meet
END:VEVENT
BEGIN:VEVENT
DTSTART;TZID=Europe/London:20250724T193000
DTEND;TZID=Europe/London:20250724T220000
DTSTAMP:20260421T153442
CREATED:20250116T151756Z
LAST-MODIFIED:20250116T151756Z
UID:105-1753385400-1753394400@tivertontabletop.club
SUMMARY:Club Meet
DESCRIPTION:Regular weekly club meeting
URL:https://tivertontabletop.club/event/club-meet-13/
LOCATION:Old Heathcoat School Community Centre\, 81 King Street\, Tiverton\, Devon\, EX16 5JJ\, United Kingdom
CATEGORIES:Club Meet
END:VEVENT
BEGIN:VEVENT
DTSTART;TZID=Europe/London:20250710T193000
DTEND;TZID=Europe/London:20250710T220000
DTSTAMP:20260421T153442
CREATED:20250116T151725Z
LAST-MODIFIED:20250116T151725Z
UID:103-1752175800-1752184800@tivertontabletop.club
SUMMARY:Club Meet
DESCRIPTION:Regular weekly club meeting
URL:https://tivertontabletop.club/event/club-meet-12/
LOCATION:Old Heathcoat School Community Centre\, 81 King Street\, Tiverton\, Devon\, EX16 5JJ\, United Kingdom
CATEGORIES:Club Meet
END:VEVENT
BEGIN:VEVENT
DTSTART;TZID=Europe/London:20250626T193000
DTEND;TZID=Europe/London:20250626T220000
DTSTAMP:20260421T153442
CREATED:20250116T151635Z
LAST-MODIFIED:20250116T151635Z
UID:101-1750966200-1750975200@tivertontabletop.club
SUMMARY:Club Meet
DESCRIPTION:Regular weekly club meeting
URL:https://tivertontabletop.club/event/club-meet-11/
LOCATION:Old Heathcoat School Community Centre\, 81 King Street\, Tiverton\, Devon\, EX16 5JJ\, United Kingdom
CATEGORIES:Club Meet
END:VEVENT
BEGIN:VEVENT
DTSTART;TZID=Europe/London:20250612T193000
DTEND;TZID=Europe/London:20250612T220000
DTSTAMP:20260421T153442
CREATED:20250116T151554Z
LAST-MODIFIED:20250116T151554Z
UID:99-1749756600-1749765600@tivertontabletop.club
SUMMARY:Club Meet
DESCRIPTION:Regular weekly club meeting
URL:https://tivertontabletop.club/event/club-meet-10/
LOCATION:Old Heathcoat School Community Centre\, 81 King Street\, Tiverton\, Devon\, EX16 5JJ\, United Kingdom
CATEGORIES:Club Meet
END:VEVENT
BEGIN:VEVENT
DTSTART;TZID=Europe/London:20250529T193000
DTEND;TZID=Europe/London:20250529T220000
DTSTAMP:20260421T153442
CREATED:20250116T151507Z
LAST-MODIFIED:20250116T151507Z
UID:97-1748547000-1748556000@tivertontabletop.club
SUMMARY:Club Meet
DESCRIPTION:Regular weekly club meeting
URL:https://tivertontabletop.club/event/club-meet-9/
LOCATION:Old Heathcoat School Community Centre\, 81 King Street\, Tiverton\, Devon\, EX16 5JJ\, United Kingdom
CATEGORIES:Club Meet
END:VEVENT
BEGIN:VEVENT
DTSTART;TZID=Europe/London:20250515T193000
DTEND;TZID=Europe/London:20250515T220000
DTSTAMP:20260421T153442
CREATED:20250116T151423Z
LAST-MODIFIED:20250116T151423Z
UID:95-1747337400-1747346400@tivertontabletop.club
SUMMARY:Club Meet
DESCRIPTION:Regular weekly club meeting
URL:https://tivertontabletop.club/event/club-meet-8/
LOCATION:Old Heathcoat School Community Centre\, 81 King Street\, Tiverton\, Devon\, EX16 5JJ\, United Kingdom
CATEGORIES:Club Meet
END:VEVENT
BEGIN:VEVENT
DTSTART;TZID=Europe/London:20250501T193000
DTEND;TZID=Europe/London:20250501T220000
DTSTAMP:20260421T153442
CREATED:20250116T151339Z
LAST-MODIFIED:20250116T151339Z
UID:93-1746127800-1746136800@tivertontabletop.club
SUMMARY:Club Meet
DESCRIPTION:Regular weekly club meeting
URL:https://tivertontabletop.club/event/club-meet-7/
LOCATION:Old Heathcoat School Community Centre\, 81 King Street\, Tiverton\, Devon\, EX16 5JJ\, United Kingdom
CATEGORIES:Club Meet
END:VEVENT
BEGIN:VEVENT
DTSTART;TZID=Europe/London:20250417T193000
DTEND;TZID=Europe/London:20250417T220000
DTSTAMP:20260421T153442
CREATED:20250116T151252Z
LAST-MODIFIED:20250116T151252Z
UID:91-1744918200-1744927200@tivertontabletop.club
SUMMARY:Club Meet
DESCRIPTION:Regular weekly club meeting
URL:https://tivertontabletop.club/event/club-meet-6/
LOCATION:Old Heathcoat School Community Centre\, 81 King Street\, Tiverton\, Devon\, EX16 5JJ\, United Kingdom
CATEGORIES:Club Meet
END:VEVENT
BEGIN:VEVENT
DTSTART;TZID=Europe/London:20250403T193000
DTEND;TZID=Europe/London:20250403T220000
DTSTAMP:20260421T153442
CREATED:20250116T151219Z
LAST-MODIFIED:20250116T151219Z
UID:89-1743708600-1743717600@tivertontabletop.club
SUMMARY:Club Meet
DESCRIPTION:Regular weekly club meeting
URL:https://tivertontabletop.club/event/club-meet-5/
LOCATION:Old Heathcoat School Community Centre\, 81 King Street\, Tiverton\, Devon\, EX16 5JJ\, United Kingdom
CATEGORIES:Club Meet
END:VEVENT
BEGIN:VEVENT
DTSTART;TZID=Europe/London:20250320T193000
DTEND;TZID=Europe/London:20250320T220000
DTSTAMP:20260421T153442
CREATED:20250116T151041Z
LAST-MODIFIED:20250116T151041Z
UID:87-1742499000-1742508000@tivertontabletop.club
SUMMARY:Club Meet
DESCRIPTION:Regular weekly club meeting
URL:https://tivertontabletop.club/event/club-meet-4/
LOCATION:Old Heathcoat School Community Centre\, 81 King Street\, Tiverton\, Devon\, EX16 5JJ\, United Kingdom
CATEGORIES:Club Meet
END:VEVENT
BEGIN:VEVENT
DTSTART;TZID=Europe/London:20250319T183000
DTEND;TZID=Europe/London:20250319T220000
DTSTAMP:20260421T153442
CREATED:20251201T104622Z
LAST-MODIFIED:20251201T104622Z
UID:1454-1742409000-1742421600@tivertontabletop.club
SUMMARY:Club Meet
DESCRIPTION:Regular fortnightly club meeting
URL:https://tivertontabletop.club/event/club-meet-29/
LOCATION:Old Heathcoat School Community Centre\, 81 King Street\, Tiverton\, Devon\, EX16 5JJ\, United Kingdom
CATEGORIES:Club Meet
END:VEVENT
BEGIN:VEVENT
DTSTART;TZID=Europe/London:20250306T193000
DTEND;TZID=Europe/London:20250306T220000
DTSTAMP:20260421T153442
CREATED:20250116T151006Z
LAST-MODIFIED:20250224T155910Z
UID:85-1741289400-1741298400@tivertontabletop.club
SUMMARY:Club Meet & Kill Team Demo Night
DESCRIPTION:Regular weekly club meeting & Kill Team Demo Night
URL:https://tivertontabletop.club/event/club-meet-3/
LOCATION:Old Heathcoat School Community Centre\, 81 King Street\, Tiverton\, Devon\, EX16 5JJ\, United Kingdom
CATEGORIES:Club Meet
END:VEVENT
END:VCALENDAR